BEGIN:VCALENDAR
VERSION:2.0
PRODID:-//Sabre//Sabre VObject 4.5.8//EN
CALSCALE:GREGORIAN
BEGIN:VTIMEZONE
TZID:Europe/Zurich
X-LIC-LOCATION:Europe/Zurich
TZURL:http://tzurl.org/zoneinfo/Europe/Zurich
BEGIN:DAYLIGHT
TZOFFSETFROM:+0100
TZOFFSETTO:+0200
TZNAME:CEST
DTSTART:19810329T020000
RRULE:FREQ=YEARLY;BYMONTH=3;BYDAY=-1SU
END:DAYLIGHT
BEGIN:STANDARD
TZOFFSETFROM:+0200
TZOFFSETTO:+0100
TZNAME:CET
DTSTART:19961027T030000
RRULE:FREQ=YEARLY;BYMONTH=10;BYDAY=-1SU
END:STANDARD
END:VTIMEZONE
BEGIN:VEVENT
UID:news1788@dslw.philhist.unibas.ch
DTSTAMP;TZID=Europe/Zurich:20260422T111130
DTSTART;TZID=Europe/Zurich:20260507T180000
SUMMARY:Lesung mit Usama Al Shahmani: In der Tiefe des Tigris schläft ein 
 Lied
DESCRIPTION:Öffentliche Lesung: Usama Al Shahmani\\r\\nModeration: Prof. D
 r. Alexander Honold\, Universität Basel\\r\\nDonnerstag 7. Mai 2026\; 18.
 00 - 19.30 Uhr\\r\\nSeminarraum 5\, Swiss TPH\, Kreuzstr. 2\, Allschwil\\r
 \\nBüchertisch in Zusammenarbeit mit der Buchhandlung Olymp und Hades\\r\
 \n\\r\\nGadi lebt als Dozent für hebräische Sprache in Zürich\, als sei
 n Vater in Israel im Sterben liegt. Über dreißig Jahre hatte er keinen K
 ontakt mehr zu ihm. Wider Willen reist er ans Krankenbett des Vaters\, nac
 h seinem Tod bleibt ein unbequemes Erbe: eine Tasche mit Tagebüchern und 
 Aufzeichnungen sowie der letzte Wunsch\, die Hälfte seiner Asche solle in
  den Tigris gestreut werden.\\r\\nAls Gadi in einem der Hefte zu lesen beg
 innt\, begegnet ihm nicht nur ein unbekannter Vater\, sondern auch ein dun
 kles Kapitel der irakischen Geschichte: die Vertreibung der dort seit übe
 r 2500 Jahren ansässigen jüdischen Bevölkerung unter tatkräftiger Hilf
 e der Nationalsozialisten. 1934 in Bagdad geboren\, erlebte Gadis Vater di
 e Ausgrenzungen bis zu den Pogromen und der Flucht nach Israel. Trotz sein
 er Widerstände kann sich Gadi nicht mehr von der Geschichte seines Vaters
  lösen und beschließt\, mit der Urne nach Bagdad zu reisen.\\r\\nEin ein
 drücklicher Roman über ein Stück irakischer Geschichte und abgeschnitte
 ne Lebensfäden\, untrennbar verbunden mit dem Nahostkonflikt\, der koloni
 alen Vergangenheit Europas und dem Nationalsozialismus.\\r\\nErschienen im
  Limmat Verlag
X-ALT-DESC:<p>Öffentliche Lesung: Usama Al Shahmani</p>\n<p>Moderation: Pr
 of. Dr. Alexander Honold\, Universität Basel</p>\n<p>Donnerstag 7. Mai 20
 26\; 18.00 - 19.30 Uhr</p>\n<p>Seminarraum 5\, Swiss TPH\, Kreuzstr. 2\, A
 llschwil</p>\n<p>Büchertisch in Zusammenarbeit mit der Buchhandlung Olymp
  und Hades</p>\n\n<p>Gadi lebt als Dozent für hebräische Sprache in Zür
 ich\, als sein Vater in Israel im Sterben liegt. Über dreißig Jahre hatt
 e er keinen Kontakt mehr zu ihm. Wider Willen reist er ans Krankenbett des
  Vaters\, nach seinem Tod bleibt ein unbequemes Erbe: eine Tasche mit Tage
 büchern und Aufzeichnungen sowie der letzte Wunsch\, die Hälfte seiner A
 sche solle in den Tigris gestreut werden.</p>\n<p>Als Gadi in einem der He
 fte zu lesen beginnt\, begegnet ihm nicht nur ein unbekannter Vater\, sond
 ern auch ein dunkles Kapitel der irakischen Geschichte: die Vertreibung de
 r dort seit über 2500 Jahren ansässigen jüdischen Bevölkerung unter ta
 tkräftiger Hilfe der Nationalsozialisten. 1934 in Bagdad geboren\, erlebt
 e Gadis Vater die Ausgrenzungen bis zu den Pogromen und der Flucht nach Is
 rael. Trotz seiner Widerstände kann sich Gadi nicht mehr von der Geschich
 te seines Vaters lösen und beschließt\, mit der Urne nach Bagdad zu reis
 en.</p>\n<p>Ein eindrücklicher Roman über ein Stück irakischer Geschich
 te und abgeschnittene Lebensfäden\, untrennbar verbunden mit dem Nahostko
 nflikt\, der kolonialen Vergangenheit Europas und dem Nationalsozialismus.
 </p>\n<p>Erschienen im Limmat Verlag</p>
END:VEVENT
END:VCALENDAR
