BEGIN:VCALENDAR
VERSION:2.0
PRODID:-//Sabre//Sabre VObject 4.5.8//EN
CALSCALE:GREGORIAN
BEGIN:VTIMEZONE
TZID:Europe/Zurich
X-LIC-LOCATION:Europe/Zurich
TZURL:http://tzurl.org/zoneinfo/Europe/Zurich
BEGIN:DAYLIGHT
TZOFFSETFROM:+0100
TZOFFSETTO:+0200
TZNAME:CEST
DTSTART:19810329T020000
RRULE:FREQ=YEARLY;BYMONTH=3;BYDAY=-1SU
END:DAYLIGHT
BEGIN:STANDARD
TZOFFSETFROM:+0200
TZOFFSETTO:+0100
TZNAME:CET
DTSTART:19961027T030000
RRULE:FREQ=YEARLY;BYMONTH=10;BYDAY=-1SU
END:STANDARD
END:VTIMEZONE
BEGIN:VEVENT
UID:news1759@dslw.philhist.unibas.ch
DTSTAMP;TZID=Europe/Zurich:20260319T114211
DTSTART;TZID=Europe/Zurich:20260507T161500
SUMMARY:"Se frotter à l’essieu du Pôle\, & être au bout du monde" : Je
 an-François Regnard en Laponie
DESCRIPTION:Jean-François Regnard est surtout resté dans les mémoires en
  tant que dramaturge : il a en effet relevé\, dans les dix dernières ann
 ées de sa vie\, le défi de succéder à Molière. Mais pour cela\, il a 
 dû renoncer à « l'esprit byronien »\, que lui attribuera bien plus tar
 d son petit-neveu Alfred de Vigny\, et cesser ses voyages. Regnard le roma
 ncier narrant sa captivité au sérail du Grand Turc et Regnard le voyageu
 r en Europe du Nord tissent de nombreux liens entre les différents genres
  expérimentés\, qui participent de la richesse d'une écriture viatique 
 novatrice et complexe. Un roman et quatre récits de voyages traversant ne
 uf pays et régions constituent son œuvre de voyages. Nous mettrons le ca
 p au Nord avec Regnard\, « enfin arrêtés où l’univers nous a manqu
 é »\, à la découverte d’une terre sans nuit et de ses habitants «
  lapons »\, célébrés par un paradoxal texte ironique en prose ponctu
 é de géo-poésie néolatine et de sizains éco-poétiques.\\r\\nProposé
 e dans le cadre du séminaire de Dorine Rouiller intitulé : « Imaginai
 res du "Grand Nord" en France (XVIe-XVIIe s.) »\, cette conférence est
  ouverte à tous.
X-ALT-DESC:<p>Jean-François Regnard est surtout resté dans les mémoires 
 en tant que dramaturge : il a en effet relevé\, dans les dix dernières a
 nnées de sa vie\, le défi de succéder à Molière. Mais pour cela\, il 
 a dû renoncer à « l'esprit byronien »\, que lui attribuera bien plus t
 ard son petit-neveu Alfred de Vigny\, et cesser ses voyages. Regnard le ro
 mancier narrant sa captivité au sérail du Grand Turc et Regnard le voyag
 eur en Europe du Nord tissent de nombreux liens entre les différents genr
 es expérimentés\, qui participent de la richesse d'une écriture viatiqu
 e novatrice et complexe. Un roman et quatre récits de voyages traversant 
 neuf pays et régions constituent son œuvre de voyages. Nous mettrons le 
 cap au Nord avec Regnard\, «&nbsp\;enfin arrêtés où l’univers nous a
  manqué&nbsp\;»\, à la découverte d’une terre sans nuit et de ses ha
 bitants «&nbsp\;lapons&nbsp\;»\, célébrés par un paradoxal texte iron
 ique en prose ponctué de géo-poésie néolatine et de sizains éco-poét
 iques.</p>\n<p>Proposée dans le cadre du séminaire de Dorine Rouiller in
 titulé&nbsp\;: «&nbsp\;Imaginaires du&nbsp\;"Grand Nord" en France (XVIe
 -XVIIe s.)&nbsp\;»\, cette conférence est ouverte à tous.</p>
DTEND;TZID=Europe/Zurich:20260507T174500
END:VEVENT
END:VCALENDAR
