BEGIN:VCALENDAR
VERSION:2.0
PRODID:-//Sabre//Sabre VObject 4.5.8//EN
CALSCALE:GREGORIAN
BEGIN:VTIMEZONE
TZID:Europe/Zurich
X-LIC-LOCATION:Europe/Zurich
TZURL:http://tzurl.org/zoneinfo/Europe/Zurich
BEGIN:DAYLIGHT
TZOFFSETFROM:+0100
TZOFFSETTO:+0200
TZNAME:CEST
DTSTART:19810329T020000
RRULE:FREQ=YEARLY;BYMONTH=3;BYDAY=-1SU
END:DAYLIGHT
BEGIN:STANDARD
TZOFFSETFROM:+0200
TZOFFSETTO:+0100
TZNAME:CET
DTSTART:19961027T030000
RRULE:FREQ=YEARLY;BYMONTH=10;BYDAY=-1SU
END:STANDARD
END:VTIMEZONE
BEGIN:VEVENT
UID:news1758@dslw.philhist.unibas.ch
DTSTAMP;TZID=Europe/Zurich:20260319T111800
DTSTART;TZID=Europe/Zurich:20260323T181500
SUMMARY:"Kooperation\, Sprache und Kommunismus"
DESCRIPTION:Gastvortrag von Prof. Dr. Erhard Schüttpelz (Universität Sieg
 en) im Rahmen der Forum Basiliene Vorlesung "Konflikt und Kooperation"
X-ALT-DESC:Gastvortrag von Prof. Dr. Erhard Schüttpelz (Universität Siege
 n) im Rahmen der Forum Basiliene Vorlesung "Konflikt und Kooperation"
END:VEVENT
END:VCALENDAR
