BEGIN:VCALENDAR
VERSION:2.0
PRODID:-//Sabre//Sabre VObject 4.5.8//EN
CALSCALE:GREGORIAN
BEGIN:VTIMEZONE
TZID:Europe/Zurich
X-LIC-LOCATION:Europe/Zurich
TZURL:http://tzurl.org/zoneinfo/Europe/Zurich
BEGIN:DAYLIGHT
TZOFFSETFROM:+0100
TZOFFSETTO:+0200
TZNAME:CEST
DTSTART:19810329T020000
RRULE:FREQ=YEARLY;BYMONTH=3;BYDAY=-1SU
END:DAYLIGHT
BEGIN:STANDARD
TZOFFSETFROM:+0200
TZOFFSETTO:+0100
TZNAME:CET
DTSTART:19961027T030000
RRULE:FREQ=YEARLY;BYMONTH=10;BYDAY=-1SU
END:STANDARD
END:VTIMEZONE
BEGIN:VEVENT
UID:news1738@dslw.philhist.unibas.ch
DTSTAMP;TZID=Europe/Zurich:20260220T103703
DTSTART;TZID=Europe/Zurich:20260317T161500
SUMMARY:"From Colonial Conquest to Orientalist Critique: The Soviet Histori
 ography of Daghestan and the 19th-Century Caucasian War"
DESCRIPTION:Vortrag von Shamil Shikhaliev im Rahmen der Ringvorlesung «Der
  Kaukasus: Konfliktraum und Begegnungsraum in Geschichte und Gegenwart».
X-ALT-DESC:Vortrag von Shamil Shikhaliev im Rahmen der Ringvorlesung «Der 
 Kaukasus: Konfliktraum und Begegnungsraum in Geschichte und Gegenwart».
DTEND;TZID=Europe/Zurich:20260317T180000
END:VEVENT
END:VCALENDAR
