BEGIN:VCALENDAR
VERSION:2.0
PRODID:-//Sabre//Sabre VObject 4.5.8//EN
CALSCALE:GREGORIAN
BEGIN:VTIMEZONE
TZID:Europe/Zurich
X-LIC-LOCATION:Europe/Zurich
TZURL:http://tzurl.org/zoneinfo/Europe/Zurich
BEGIN:DAYLIGHT
TZOFFSETFROM:+0100
TZOFFSETTO:+0200
TZNAME:CEST
DTSTART:19810329T020000
RRULE:FREQ=YEARLY;BYMONTH=3;BYDAY=-1SU
END:DAYLIGHT
BEGIN:STANDARD
TZOFFSETFROM:+0200
TZOFFSETTO:+0100
TZNAME:CET
DTSTART:19961027T030000
RRULE:FREQ=YEARLY;BYMONTH=10;BYDAY=-1SU
END:STANDARD
END:VTIMEZONE
BEGIN:VEVENT
UID:news1762@dslw.philhist.unibas.ch
DTSTAMP;TZID=Europe/Zurich:20260319T143853
DTSTART;TZID=Europe/Zurich:20260407T190000
SUMMARY:Elaine Vilar Madruga: narradora\, poeta y dramaturga cubana\, es un
 a de las voces actuales más importantes del Caribe 
DESCRIPTION:Elisa Chaim (Universität Basel) y Marina Gamba (K. Universitei
 t Leuven) \\r\\nen conversación con la autora cubana Elaine Vilar Madrug
 a\\r\\nMartes\, 7 de abril 2026 a las 19 horas en la\\r\\nsala O105 de Mai
 engasse 51\, CH-4056 Basel\\r\\nTodas las personas interesadas están bien
 venidas\\r\\n\\r\\nA continuación invitamos a una copita de honor
X-ALT-DESC:<p>Elisa Chaim (Universität Basel) y Marina Gamba (K. Universit
 eit Leuven)&nbsp\;</p>\n<p>en conversación con la autora cubana Elaine Vi
 lar Madruga</p>\n<p>Martes\, <strong>7 de abril 2026 a las 19 horas</stron
 g> en la</p>\n<p>sala O105 de Maiengasse 51\, CH-4056 Basel</p>\n<p>Todas 
 las personas interesadas están bienvenidas</p>\n\n<p>A continuación invi
 tamos a una copita de honor</p>
DTEND;TZID=Europe/Zurich:20260407T210000
END:VEVENT
END:VCALENDAR
