BEGIN:VCALENDAR
VERSION:2.0
PRODID:-//Sabre//Sabre VObject 4.5.8//EN
CALSCALE:GREGORIAN
BEGIN:VTIMEZONE
TZID:Europe/Zurich
X-LIC-LOCATION:Europe/Zurich
TZURL:http://tzurl.org/zoneinfo/Europe/Zurich
BEGIN:DAYLIGHT
TZOFFSETFROM:+0100
TZOFFSETTO:+0200
TZNAME:CEST
DTSTART:19810329T020000
RRULE:FREQ=YEARLY;BYMONTH=3;BYDAY=-1SU
END:DAYLIGHT
BEGIN:STANDARD
TZOFFSETFROM:+0200
TZOFFSETTO:+0100
TZNAME:CET
DTSTART:19961027T030000
RRULE:FREQ=YEARLY;BYMONTH=10;BYDAY=-1SU
END:STANDARD
END:VTIMEZONE
BEGIN:VEVENT
UID:news1739@dslw.philhist.unibas.ch
DTSTAMP;TZID=Europe/Zurich:20260220T102359
DTSTART;TZID=Europe/Zurich:20260317T190000
SUMMARY:"Der Krieg nahm mir mein Zuhause. Zerstörte Städte\, Flucht und d
 ie Psychologischen Folgen in der Ukraine."
DESCRIPTION:Seit Beginn des russischen Überfalls auf die Ukraine am 24. Fe
 bruar 2022 haben Millionen Ukrainerinnen und Ukrainer ihr Zuhause verloren
 . Die Angriffe auf Wohnhäuser\, Schulen\, Spitäler und die Energieversor
 gung haben ganze Städte unbewohnbar gemacht. Über fünf Millionen Mensch
 en flohen vor dem Krieg in andere europäische Länder\, mehr als dreieinh
 alb Millionen Ukrainerinnen und Ukrainer sind innerhalb des eigenen Landes
  auf der Flucht. Vielen ist nur der Schlüssel ihrer verlorenen Wohnung ge
 blieben. Wie geht es diesen Menschen? Wie leben sie mit dem Verlust ihres 
 Zuhauses? Wie lassen sich die psychologischen Folgen des russischen Angrif
 fskrieges auf die Ukraine beschreiben? Was bedeuten Flucht\, Heimatverlust
  und Ankommen in einer fremden Stadt ganz konkret? \\r\\nDieses Event fin
 det im Rahmen der Basler Geschichtstage statt. Tickets für die Geschichts
 tage gibt es online [https://baslergeschichtstage.ch/events/der-krieg-nahm
 -mir-mein-zuhause-zerstoerte-staedte-flucht-und-die-psychologischen-folgen
 -in-der-ukraine-seit-2022/] oder am Abend vor Ort. \\r\\nWeitere Informat
 ionen auch zur Referentin können dem Programmflyer entnehmen werden.
X-ALT-DESC:<p>Seit Beginn des russischen Überfalls auf die Ukraine am 24. 
 Februar 2022 haben Millionen Ukrainerinnen und Ukrainer ihr Zuhause verlor
 en. Die Angriffe auf Wohnhäuser\, Schulen\, Spitäler und die Energievers
 orgung haben ganze Städte unbewohnbar gemacht. Über fünf Millionen Mens
 chen flohen vor dem Krieg in andere europäische Länder\, mehr als dreiei
 nhalb Millionen Ukrainerinnen und Ukrainer sind innerhalb des eigenen Land
 es auf der Flucht. Vielen ist nur der Schlüssel ihrer verlorenen Wohnung 
 geblieben. Wie geht es diesen Menschen? Wie leben sie mit dem Verlust ihre
 s Zuhauses? Wie lassen sich die psychologischen Folgen des russischen Angr
 iffskrieges auf die Ukraine beschreiben? Was bedeuten Flucht\, Heimatverlu
 st und Ankommen in einer fremden Stadt ganz konkret?&nbsp\;</p>\n<p>Dieses
  Event findet im Rahmen der Basler Geschichtstage statt. Tickets für die 
 Geschichtstage gibt es <a href="https://baslergeschichtstage.ch/events/der
 -krieg-nahm-mir-mein-zuhause-zerstoerte-staedte-flucht-und-die-psychologis
 chen-folgen-in-der-ukraine-seit-2022/" target="_blank">online</a> oder am 
 Abend vor Ort.&nbsp\;</p>\n<p>Weitere Informationen auch zur Referentin k
 önnen dem Programmflyer entnehmen werden.</p>
DTEND;TZID=Europe/Zurich:20260317T210000
END:VEVENT
END:VCALENDAR
