BEGIN:VCALENDAR
VERSION:2.0
PRODID:-//Sabre//Sabre VObject 4.5.8//EN
CALSCALE:GREGORIAN
BEGIN:VTIMEZONE
TZID:Europe/Zurich
X-LIC-LOCATION:Europe/Zurich
TZURL:http://tzurl.org/zoneinfo/Europe/Zurich
BEGIN:DAYLIGHT
TZOFFSETFROM:+0100
TZOFFSETTO:+0200
TZNAME:CEST
DTSTART:19810329T020000
RRULE:FREQ=YEARLY;BYMONTH=3;BYDAY=-1SU
END:DAYLIGHT
BEGIN:STANDARD
TZOFFSETFROM:+0200
TZOFFSETTO:+0100
TZNAME:CET
DTSTART:19961027T030000
RRULE:FREQ=YEARLY;BYMONTH=10;BYDAY=-1SU
END:STANDARD
END:VTIMEZONE
BEGIN:VEVENT
UID:news1760@dslw.philhist.unibas.ch
DTSTAMP;TZID=Europe/Zurich:20260319T114613
DTSTART;TZID=Europe/Zurich:20260508T101500
SUMMARY:«Conceptions de l’amour dans les recueils satyriques du XVIIe si
 ècle»
DESCRIPTION:Les recueils satyriques du début du XVIIe siècle constituent
  un phénomène éditorial sans précédent en France : entre 1600 et 162
 3 circulent plus de cinquante anthologies de poésie érotique et pornogra
 phique. Appréhendée comme une « offensive obscène » par Michel Jean
 neret\, cette veine poétique mérite qu’on observe de près ce qu’ell
 e dit de l’amour et comment elle se situe par rapport aux discours amour
 eux qui l’entourent et la précèdent. La position critique des poètes 
 à l’égard des représentations amoureuses topiques et leur usage parod
 ique du code pétrarquiste mettent sur la piste d’un contre-discours amo
 ureux. Dans le monde satyrique où le sentiment amoureux n’élève plus 
 vraiment les âmes\, le discours sur l’amour révèle plutôt combien ce
 s recueils construisent une vision brutale du monde que l’intervention i
 nscrira dans une histoire longue de la domination masculine.\\r\\nProposé
 e dans le cadre de la Vorlesung de Dorine Rouiller intitulée : « Conce
 ptions de l’amour en poésie du modèle courtois au libertinage (XIIe-XV
 IIe s.) »\, cette conférence est ouverte à tous.
X-ALT-DESC:<p>Les recueils satyriques du début du XVII<sup>e</sup>&nbsp\;s
 iècle constituent un phénomène éditorial sans précédent en France&nb
 sp\;: entre 1600 et 1623 circulent plus de cinquante anthologies de poési
 e érotique et pornographique. Appréhendée comme une «&nbsp\;offensive 
 obscène&nbsp\;» par Michel Jeanneret\, cette veine poétique mérite qu
 ’on observe de près ce qu’elle dit de l’amour et comment elle se si
 tue par rapport aux discours amoureux qui l’entourent et la précèdent.
  La position critique des poètes à l’égard des représentations amour
 euses topiques et leur usage parodique du code pétrarquiste mettent sur l
 a piste d’un contre-discours amoureux. Dans le monde satyrique où le se
 ntiment amoureux n’élève plus vraiment les âmes\, le discours sur l
 ’amour révèle plutôt combien ces recueils construisent une vision bru
 tale du monde que l’intervention inscrira dans une histoire longue de la
  domination masculine.</p>\n<p>Proposée dans le cadre de la Vorlesung de 
 Dorine Rouiller intitulée&nbsp\;: «&nbsp\;Conceptions de l’amour en po
 ésie du modèle courtois au libertinage (XIIe-XVIIe s.)&nbsp\;»\, cette 
 conférence est ouverte à tous.</p>
DTEND;TZID=Europe/Zurich:20260508T114500
END:VEVENT
END:VCALENDAR
