BEGIN:VCALENDAR
VERSION:2.0
PRODID:-//Sabre//Sabre VObject 4.5.8//EN
CALSCALE:GREGORIAN
BEGIN:VTIMEZONE
TZID:Europe/Zurich
X-LIC-LOCATION:Europe/Zurich
TZURL:http://tzurl.org/zoneinfo/Europe/Zurich
BEGIN:DAYLIGHT
TZOFFSETFROM:+0100
TZOFFSETTO:+0200
TZNAME:CEST
DTSTART:19810329T020000
RRULE:FREQ=YEARLY;BYMONTH=3;BYDAY=-1SU
END:DAYLIGHT
BEGIN:STANDARD
TZOFFSETFROM:+0200
TZOFFSETTO:+0100
TZNAME:CET
DTSTART:19961027T030000
RRULE:FREQ=YEARLY;BYMONTH=10;BYDAY=-1SU
END:STANDARD
END:VTIMEZONE
BEGIN:VEVENT
UID:news1743@dslw.philhist.unibas.ch
DTSTAMP;TZID=Europe/Zurich:20260220T104154
DTSTART;TZID=Europe/Zurich:20260331T181500
SUMMARY:Kolloquium Slavistische Forschungen
DESCRIPTION:Im Kolloquium mit Ivan Marković geht es um das Zusammenspiel v
 on Natur und Architektur.\\r\\nTexte zur Vorbereitung stehen auf Adam zur 
 Verfügung oder können bei Tatjana Simeunović [https://osteuropa.philhis
 t.unibas.ch/de/aktuelles/veranstaltungen/details/kolloquium-slavistische-f
 orschungen-7-7-2-1-1-1/#] angefragt werden.
X-ALT-DESC:<p>Im Kolloquium mit Ivan Marković geht es um das Zusammenspiel
  von Natur und Architektur.</p>\n<p>Texte zur Vorbereitung stehen auf Adam
  zur Verfügung oder können bei <a href="https://osteuropa.philhist.uniba
 s.ch/de/aktuelles/veranstaltungen/details/kolloquium-slavistische-forschun
 gen-7-7-2-1-1-1/#">Tatjana Simeunović</a> angefragt werden.</p>
DTEND;TZID=Europe/Zurich:20260331T200000
END:VEVENT
END:VCALENDAR
