BEGIN:VCALENDAR
VERSION:2.0
PRODID:-//Sabre//Sabre VObject 4.5.8//EN
CALSCALE:GREGORIAN
BEGIN:VTIMEZONE
TZID:Europe/Zurich
X-LIC-LOCATION:Europe/Zurich
TZURL:http://tzurl.org/zoneinfo/Europe/Zurich
BEGIN:DAYLIGHT
TZOFFSETFROM:+0100
TZOFFSETTO:+0200
TZNAME:CEST
DTSTART:19810329T020000
RRULE:FREQ=YEARLY;BYMONTH=3;BYDAY=-1SU
END:DAYLIGHT
BEGIN:STANDARD
TZOFFSETFROM:+0200
TZOFFSETTO:+0100
TZNAME:CET
DTSTART:19961027T030000
RRULE:FREQ=YEARLY;BYMONTH=10;BYDAY=-1SU
END:STANDARD
END:VTIMEZONE
BEGIN:VEVENT
UID:news1787@dslw.philhist.unibas.ch
DTSTAMP;TZID=Europe/Zurich:20260420T155741
DTSTART;TZID=Europe/Zurich:20260504T101500
SUMMARY:Das Floss der Musik. Hans Werner Henze zum 100. Geburtstag. 
DESCRIPTION:Der Komponist Hans Werner Henze nutzte seine Musik als ein Vehi
 kel für Exkursionen und Aufbrüche in neue Gefilde\; in den mediterranen 
 Süden und auf das tropische Cuba\, in vielfältige Kooperations-Beziehung
 en mit den Textformen der Literatur\, auf die Podien der Musikdramatik ode
 r in die Formate der Radiophonie. Das in Zusammenarbeit zwischen der Paul 
 Sacher Stiftung und der Universität Basel konzipierte und organisierte Sy
 mposium wird\, nur wenige Wochen vor dem Gedenkanlass des 100. Geburtstags
 \, den Komponisten Hans Werner Henze in der Vielfalt seiner Aufbrüche und
  Kooperationsbeziehungen zu zeigen versuchen. Behandelt werden Fragen der 
 Zusammenarbeit von Musik und Literatur\, Aspekte der gattungs- und medien
 ästhetischen Experimentierfreude\, sowie der Bedeutung Henzes für das ku
 lturelle Leben in einem sich schrittweise internationalisierenden Nachkrie
 gsdeutschland. Logistisch wird die Veranstaltung profitieren können von d
 er Nähe des in der Paul Sacher Stiftung befindlichen Nachlassbestandes\, 
 dessen Materialien in die gemeinsame Arbeit einbezogen werden. Das Symposi
 um ist auch als Scharnier zum universitären Lehrbetrieb angelegt\, indem 
 Studierende aus Musik-\, Literatur- und Medienwissenschaft Gelegenheit hab
 en\, sich auf eine nähere Beschäftigung mit dem Werk Hans Werner Henzes 
 vorzubereiten und an den einzelnen Panels des Symposiums aktiv teilzunehme
 n. 
X-ALT-DESC:<p><i>Der Komponist <strong>Hans Werner Henze</strong> nutzte se
 ine Musik als ein Vehikel für Exkursionen und Aufbrüche in neue Gefilde\
 ; in den mediterranen Süden und auf das tropische Cuba\, in vielfältige 
 Kooperations-Beziehungen mit den Textformen der Literatur\, auf die Podien
  der Musikdramatik oder in die Formate der Radiophonie. Das in Zusammenarb
 eit zwischen der Paul Sacher Stiftung und der Universität Basel konzipier
 te und organisierte Symposium wird\, nur wenige Wochen vor dem Gedenkanlas
 s des 100. Geburtstags\, den Komponisten Hans Werner Henze in der Vielfalt
  seiner Aufbrüche und Kooperationsbeziehungen zu zeigen versuchen. Behand
 elt werden Fragen der Zusammenarbeit von Musik und Literatur\, Aspekte der
  gattungs- und medienästhetischen Experimentierfreude\, sowie der Bedeutu
 ng Henzes für das kulturelle Leben in einem sich schrittweise internation
 alisierenden Nachkriegsdeutschland. Logistisch wird die Veranstaltung prof
 itieren können von der Nähe des in der Paul Sacher Stiftung befindlichen
  Nachlassbestandes\, dessen Materialien in die gemeinsame Arbeit einbezoge
 n werden. Das Symposium ist auch als Scharnier zum universitären Lehrbetr
 ieb angelegt\, indem Studierende aus Musik-\, Literatur- und Medienwissens
 chaft Gelegenheit haben\, sich auf eine nähere Beschäftigung mit dem Wer
 k Hans Werner Henzes vorzubereiten und an den einzelnen Panels des Symposi
 ums aktiv teilzunehmen.&nbsp\;</i></p>
DTEND;TZID=Europe/Zurich:20260505T130000
END:VEVENT
END:VCALENDAR
